BEGIN:VCALENDAR
VERSION:2.0
PRODID:-//Trycholog.info - ECPv6.15.15//NONSGML v1.0//EN
CALSCALE:GREGORIAN
METHOD:PUBLISH
X-WR-CALNAME:Trycholog.info
X-ORIGINAL-URL:https://trycholog.info
X-WR-CALDESC:Wydarzenia dla Trycholog.info
REFRESH-INTERVAL;VALUE=DURATION:PT1H
X-Robots-Tag:noindex
X-PUBLISHED-TTL:PT1H
BEGIN:VTIMEZONE
TZID:Europe/Warsaw
BEGIN:DAYLIGHT
TZOFFSETFROM:+0100
TZOFFSETTO:+0200
TZNAME:CEST
DTSTART:20240331T010000
END:DAYLIGHT
BEGIN:STANDARD
TZOFFSETFROM:+0200
TZOFFSETTO:+0100
TZNAME:CET
DTSTART:20241027T010000
END:STANDARD
BEGIN:DAYLIGHT
TZOFFSETFROM:+0100
TZOFFSETTO:+0200
TZNAME:CEST
DTSTART:20250330T010000
END:DAYLIGHT
BEGIN:STANDARD
TZOFFSETFROM:+0200
TZOFFSETTO:+0100
TZNAME:CET
DTSTART:20251026T010000
END:STANDARD
BEGIN:DAYLIGHT
TZOFFSETFROM:+0100
TZOFFSETTO:+0200
TZNAME:CEST
DTSTART:20260329T010000
END:DAYLIGHT
BEGIN:STANDARD
TZOFFSETFROM:+0200
TZOFFSETTO:+0100
TZNAME:CET
DTSTART:20261025T010000
END:STANDARD
END:VTIMEZONE
BEGIN:VEVENT
DTSTART;VALUE=DATE:20250905
DTEND;VALUE=DATE:20250908
DTSTAMP:20260421T123433
CREATED:20240917T071618Z
LAST-MODIFIED:20250713T160007Z
UID:7686-1757030400-1757289599@trycholog.info
SUMMARY:Beauty Days 2025
DESCRIPTION:Zapraszamy na Beauty Days – Międzynarodowe Targi Kosmetyczne\, jedno z najważniejszych branżowych wydarzeń w Europie Środkowej\, które odbędzie się w dniach 05-07 września 2025 w Ptak Warsaw Expo. Beauty Days to przestrzeń dedykowana wszystkim gałęziom branży kosmetycznej – idealne miejsce do nawiązywania wartościowych kontaktów biznesowych oraz poznawania najnowszych trendów i technologii. \nPodczas targów:✔️ Znajdziesz potencjalnych partnerów biznesowych✔️ Porównasz oferty i produkty dostępne na rynku✔️ Weźmiesz udział w konferencjach\, warsztatach i kongresach branżowych✔️ Rozwiniesz swoją wiedzę o rynku kosmetycznym i innowacyjnych technologiach \nNie przegap! Zarejestruj się i odbierz bezpłatne zaproszenie:👉👉👉 beautydays.pl\nDodaj do kalendarza i bądź z nami! \n \nBeauty Days 2025 – nowe otwarcie sezonu branży beauty \nW dniach 5–7 września 2025 roku w Ptak Warsaw Expo odbędzie się siódma edycja międzynarodowych targów Beauty Days. To jedno z najważniejszych wydarzeń w kalendarzu branży kosmetycznej i fryzjerskiej\, które od lat przyciąga profesjonalistów z Polski i zagranicy. Trzy dni targowe to intensywny czas spotkań\, premier produktowych\, szkoleń i inspirujących wydarzeń\, które wyznaczają kierunki rozwoju w sektorze beauty. \nPartnerzy gwarantujący najwyższy poziom wydarzenia \nTegoroczna edycja Beauty Days odbędzie się z udziałem prestiżowych partnerów: LIERA\, MAC Cosmetics\, LART oraz Moniki Skórskiej OH La Lash. Ich obecność to gwarancja wysokiej jakości merytorycznej oraz profesjonalnej atmosfery. Marki te będą widoczne zarówno na stoiskach wystawienniczych\, jak i w ramach wydarzeń towarzyszących i konkursów branżowych. \nDla kogo są targi Beauty Days 2025? \nBeauty Days 2025 to wydarzenie skierowane do szerokiego grona odbiorców. Wśród uczestników znajdą się właściciele salonów kosmetycznych i fryzjerskich\, kosmetolodzy\, wizażyści\, styliści paznokci\, podolodzy\, przedstawiciele drogerii i perfumerii\, edukatorzy oraz osoby odpowiedzialne za rozwój biznesów beauty. To także idealna przestrzeń dla tych\, którzy planują wejście na rynek i szukają wiedzy\, kontaktów oraz inspiracji. \nOferta wystawców i nowości produktowe \nNa stoiskach zaprezentują się zarówno znane\, rozpoznawalne marki\, jak i nowe podmioty debiutujące w branży. Wśród prezentowanych produktów znajdą się kosmetyki profesjonalne\, aparatura zabiegowa\, urządzenia do pielęgnacji i stylizacji\, odzież dla branży\, rozwiązania informatyczne oraz wyposażenie wnętrz gabinetów i salonów. Targi to idealna okazja\, by przetestować produkty\, porównać oferty i porozmawiać bezpośrednio z producentami i dystrybutorami. \nKonkursy i wydarzenia specjalne w programie targów \nSilnym punktem Beauty Days 2025 będzie rozbudowany program wydarzeń specjalnych\, pokazów oraz konkursów branżowych.  W strefie makijażu permanentnego odbędą się wyjątkowe pokazy I ❤️ PMU – dedykowane linergistkom i artystom pigmentacji. To okazja\, by zaprezentować swoje umiejętności przed profesjonalnym audytorium\, zdobyć uznanie ekspertów i zainspirować się najnowszymi technikami. \nMakijaż w najbardziej ekskluzywnym wydaniu będzie można podziwiać podczas MAC MASTERCLASS – serii pokazów prowadzonych przez Sebastiana Gradzika. W programie znajdą się m.in. stylizacje: Mannequin Skin\, Mocha Romance\, Midnight Glow\, Bare Glow oraz Graphic Beauty Reimagined. To spotkanie z makijażową precyzją i światowymi trendami\, które inspirują do tworzenia własnych kreacji. \nDla fanów stylizacji paznokci LART przygotowało Drugą Edycję Mistrzostw Manicure Tytanowego w Polsce. Rywalizacja odbędzie się w dwóch kategoriach: TECHNICAL MASTER – dla miłośników precyzyjnej techniki oraz ART MASTER – dla artystycznych dusz pragnących zaprezentować kreatywność i zmysł estetyczny. Nowością tegorocznej edycji będzie Konkurs Manicure Hybrydowego #NAILFUN\, dedykowany młodym talentom – uczniom i absolwentom do 21. roku życia\, którzy chcą rozpocząć swoją zawodową przygodę w branży beauty. \nNie zabraknie też emocji podczas LASH FESTIVAL by Oh La Lash – trzydniowego święta stylizacji oka. Wydarzenie gromadzi ekspertów\, pasjonatów i debiutantów w dziedzinie stylizacji rzęs\, oferując im pokazy na żywo\, możliwość rywalizacji oraz inspirujący networking. To wydarzenie\, które łączy profesjonalizm z pasją i rozwija umiejętności na każdym poziomie zaawansowania. \nDlaczego warto być na Beauty Days 2025? \nBeauty Days to nie tylko prezentacja produktów\, ale przede wszystkim platforma wymiany doświadczeń i wiedzy. Udział w targach to okazja do nawiązania nowych relacji biznesowych\, poszerzenia kompetencji zawodowych\, a także świeżego spojrzenia na rozwój własnego salonu lub marki.  \nZarejestruj się i rozpocznij sezon z Beauty Days \nNowy sezon piękna zaczyna się właśnie tutaj – w miejscu\, gdzie wiedza spotyka się z praktyką\, a inspiracje prowadzą do realnych zmian. Wszystkie informacje oraz formularz rejestracyjny dostępne są na stronie wydarzenia
URL:https://trycholog.info/wydarzenie/beauty-days-2025/
LOCATION:PTAK WARSAW EXPO\, Al. Katowicka 62\, Nadarzyn\, 05-830\, Poland
CATEGORIES:Nadarzyn k. Warszawy
ATTACH;FMTTYPE=image/png:https://trycholog.info/wp-content/uploads/2024/09/BeautyDays.png
END:VEVENT
END:VCALENDAR