BEGIN:VCALENDAR
VERSION:2.0
PRODID:-//Trycholog.info - ECPv6.15.15//NONSGML v1.0//EN
CALSCALE:GREGORIAN
METHOD:PUBLISH
X-WR-CALNAME:Trycholog.info
X-ORIGINAL-URL:https://trycholog.info
X-WR-CALDESC:Wydarzenia dla Trycholog.info
REFRESH-INTERVAL;VALUE=DURATION:PT1H
X-Robots-Tag:noindex
X-PUBLISHED-TTL:PT1H
BEGIN:VTIMEZONE
TZID:Europe/Warsaw
BEGIN:DAYLIGHT
TZOFFSETFROM:+0100
TZOFFSETTO:+0200
TZNAME:CEST
DTSTART:20180325T010000
END:DAYLIGHT
BEGIN:STANDARD
TZOFFSETFROM:+0200
TZOFFSETTO:+0100
TZNAME:CET
DTSTART:20181028T010000
END:STANDARD
BEGIN:DAYLIGHT
TZOFFSETFROM:+0100
TZOFFSETTO:+0200
TZNAME:CEST
DTSTART:20190331T010000
END:DAYLIGHT
BEGIN:STANDARD
TZOFFSETFROM:+0200
TZOFFSETTO:+0100
TZNAME:CET
DTSTART:20191027T010000
END:STANDARD
BEGIN:DAYLIGHT
TZOFFSETFROM:+0100
TZOFFSETTO:+0200
TZNAME:CEST
DTSTART:20200329T010000
END:DAYLIGHT
BEGIN:STANDARD
TZOFFSETFROM:+0200
TZOFFSETTO:+0100
TZNAME:CET
DTSTART:20201025T010000
END:STANDARD
END:VTIMEZONE
BEGIN:VEVENT
DTSTART;VALUE=DATE:20191025
DTEND;VALUE=DATE:20191026
DTSTAMP:20260422T182753
CREATED:20191008T210754Z
LAST-MODIFIED:20191008T210754Z
UID:3911-1571961600-1572047999@trycholog.info
SUMMARY:Konsultacje trychologiczne z Ewą Cognac
DESCRIPTION:Zapraszamy na bezpłatne konsultacje trychologiczne\n25 października (piątek) w punkcie odbioru sklepu internetowego BMSalononline.pl na ulicy Bolkowskiej 1C na osiedlu Górce w Warszawie\, Pani Ewa Cognac będzie przeprowadzać konsultacje trychologiczne z użyciem mikrokamery. \nZapraszamy osoby\, które borykają się ze schorzeniami skóry głowy i wypadaniem\, bądź przerzedzaniem włosów i chcą skorzystać z porady. \nKonsultacje są bezpłatne. \nKonsultacja trwa średnio ok. 40 minut\, co wiąże się z ograniczoną liczbą osób\, które mogą zostać przyjęte. \nRezerwacje przyjmujemy pod numerem telefonu: 604-066-668 \n– – – – – – –\nEwa Cognac specjalistka branż farmaceutycznej i kosmetycznej oraz wieloletnia dyrektorka w międzynarodowych koncernach związanych z urodą i zdrowiem. Członek Polskiego Stowarzyszenia Trychologicznego\nPo latach spędzonych pomiędzy Paryżem i Londynem od ponad 20 lat jest związana z przemysłem farmaceutycznym i kosmetycznym w Polsce.\nOd kilkunastu zajmuje się trychologią. Odbyła liczne szkolenia w kraju i zagranicą. Stale współpracuje z lekarzami specjalizującymi się w leczeniu problemów związanych z włosami i skórą owłosioną.\nProwadzi liczne szkolenia\, w tym dedykowane dla nauczycieli fryzjerstwa. Współpracuje z Wyższą Szkołą Inżynierii i Zdrowia przy podyplomowych studiach „Trychologia Kosmetologiczna” \nwięcej o Ewie Cognac: https://trycholog.info/location/ewa-cognac-trycholog/\nprofil Pani Ewy: https://www.facebook.com/Trycholog.Ewa.Cognac/ \nDołącz do wydarzenia na FB: https://www.facebook.com/events/757995697946852/\nZapraszamy serdecznie 🙂
URL:https://trycholog.info/wydarzenie/konsultacje-trychologiczne-z-ewa-cognac/
CATEGORIES:Drzwi otwarte,Warszawa
ATTACH;FMTTYPE=image/jpeg:https://trycholog.info/wp-content/uploads/2019/10/Konsultacje-trychologiczne-Warszawa-Bolkowska-1C.jpg
END:VEVENT
BEGIN:VEVENT
DTSTART;TZID=Europe/Warsaw:20191019T140000
DTEND;TZID=Europe/Warsaw:20191019T170000
DTSTAMP:20260422T182753
CREATED:20190920T082252Z
LAST-MODIFIED:20190920T082252Z
UID:3868-1571493600-1571504400@trycholog.info
SUMMARY:Praca z mikrokamerą w salonie fryzjerskim
DESCRIPTION:Podczas Międzynarodowego Kongresu Fryzjerskiego i Tagów Hair Forum odbywać się będzie blok szkoleniowy Look & Learn pod patronatem Estetica Polska  \nBogaty program szkoleniowy Look & Learn to wykłady połączone z praktycznymi pokazami odbywające się w komfortowych\, doskonale wyposażonych salach kongresowych. Program został stworzony we współpracy ze znanymi akademiami fryzjerskimi. \nProgram szkoleniowy rozpocznie szkolenie Ewy Cognac od lat zajmującej się trychologią. Tematyka szkolenia dotyczy zastosowania mikrokamery w codziennej pracy fryzjera. \nDołącz do wydarzenia na Facebooku \, zapoznaj się z informacjami na stronie Estetica Polska oraz Hair Forum  i weź udział w szkoleniu! \nUWAGA! Możliwość bezpłatnego badania skóry głowy podczas szkolenia! \nZapraszamy osoby z problemami skóry głowy na bezpłatne badanie podczas szkolenia w dniu 19.10.2019 r.\,  jako tzw. „model”. Ilość miejsc ograniczona! \nKażdy „model” otrzyma bezpłatną wejściówkę na targi\, jeden dobrany do skóry głowy szampon marki MonRin oraz egzemplarz czasopisma „Art of Beauty”. \nOsoby chętne prosimy o kontakt telefoniczny z Panią Ewą\, prowadzącą szkolenie: tel. 602-386-643.
URL:https://trycholog.info/wydarzenie/praca-z-mikrokamera-w-salonie-fryzjerskim/
CATEGORIES:Szkolenie,Targi,Warszawa
ATTACH;FMTTYPE=image/jpeg:https://trycholog.info/wp-content/uploads/2019/09/Banner_mikrokamera.jpg
END:VEVENT
END:VCALENDAR