BEGIN:VCALENDAR
VERSION:2.0
PRODID:-//Trycholog.info - ECPv6.15.15//NONSGML v1.0//EN
CALSCALE:GREGORIAN
METHOD:PUBLISH
X-WR-CALNAME:Trycholog.info
X-ORIGINAL-URL:https://trycholog.info
X-WR-CALDESC:Wydarzenia dla Trycholog.info
REFRESH-INTERVAL;VALUE=DURATION:PT1H
X-Robots-Tag:noindex
X-PUBLISHED-TTL:PT1H
BEGIN:VTIMEZONE
TZID:Europe/Warsaw
BEGIN:DAYLIGHT
TZOFFSETFROM:+0100
TZOFFSETTO:+0200
TZNAME:CEST
DTSTART:20180325T010000
END:DAYLIGHT
BEGIN:STANDARD
TZOFFSETFROM:+0200
TZOFFSETTO:+0100
TZNAME:CET
DTSTART:20181028T010000
END:STANDARD
BEGIN:DAYLIGHT
TZOFFSETFROM:+0100
TZOFFSETTO:+0200
TZNAME:CEST
DTSTART:20190331T010000
END:DAYLIGHT
BEGIN:STANDARD
TZOFFSETFROM:+0200
TZOFFSETTO:+0100
TZNAME:CET
DTSTART:20191027T010000
END:STANDARD
BEGIN:DAYLIGHT
TZOFFSETFROM:+0100
TZOFFSETTO:+0200
TZNAME:CEST
DTSTART:20200329T010000
END:DAYLIGHT
BEGIN:STANDARD
TZOFFSETFROM:+0200
TZOFFSETTO:+0100
TZNAME:CET
DTSTART:20201025T010000
END:STANDARD
END:VTIMEZONE
BEGIN:VEVENT
DTSTART;TZID=Europe/Warsaw:20190323T100000
DTEND;TZID=Europe/Warsaw:20190323T130000
DTSTAMP:20260422T232257
CREATED:20190304T164731Z
LAST-MODIFIED:20190304T164731Z
UID:3215-1553335200-1553346000@trycholog.info
SUMMARY:Piękna na Wiosnę – znajdź siebie w chorobie! - Akcja społeczna
DESCRIPTION:Fundacja Znajdź Pomoc zaprasza na wydarzenie Piękna na Wiosnę – znajdź siebie w chorobie!\nZbliża się wiosna\, czas odnaleźć swoje piękno wewnętrzne i zewnętrzne! Fundacja Znajdź Pomoc wraz z partnerami i salonami kosmetycznymi wrażliwymi społecznie organizuje wiosenną akcję dla pacjentek onkologicznych w całej Polsce. Wydarzenie ma na celu wsparcie pacjentek w dbaniu o swoje dobre samopoczucie\, wygląd i poczucie kobiecości\, co jest ogromnym wyzwaniem w obliczu codziennych zmagań z chorobą nowotworową. \nW ramach wydarzenia pacjentki z całej Polski będą mogły skorzystać z darmowych zabiegów kosmetycznych dostosowanych do potrzeb osób zmagających się z nowotworem. Co więcej\, Fundacja Znajdź Pomoc wraz z partnerami pragnie przekazać pacjentkom specjalistyczną wiedzę na temat dbania o siebie na co dzień podczas warsztatów z zakresu kosmetologii\, trychologii\, pielęgnacji skóry\, coachingu oraz wizażu. \nWarsztaty odbędą się w Warszawie 23 marca w godzinach 10-13. Szczegółowy plan warsztatów oraz informacje o zapisach na warsztaty i darmowe zabiegi będą dostępne na stronie wydarzenia https://www.facebook.com/events/561873417627406/ \nGłówni partnerzy wydarzenia Piękna na Wiosnę – znajdź siebie w chorobie! \nMeder Beauty Polska\nDr. Belter Polska\nBeata Adamczyk Beauty Management\nWell Concept \n\nKontakt dla partnerów i mediów:\nMałgorzata Korzeniewska\, m.korzeniewska@znajdzpomoc.pl\, tel. 884 821 952 \nKontakt dla pacjentów:\nAleksandra Będziak\, a.bedziak@znajdzpomoc.pl\, tel. 577 899 615
URL:https://trycholog.info/wydarzenie/piekna-na-wiosne-znajdz-siebie-w-chorobie/
CATEGORIES:Warszawa
ATTACH;FMTTYPE=image/png:https://trycholog.info/wp-content/uploads/2019/03/Pi_kna-na-Wiosn_.png
END:VEVENT
END:VCALENDAR