BEGIN:VCALENDAR
VERSION:2.0
PRODID:-//Trycholog.info - ECPv6.15.15//NONSGML v1.0//EN
CALSCALE:GREGORIAN
METHOD:PUBLISH
X-ORIGINAL-URL:https://trycholog.info
X-WR-CALDESC:Wydarzenia dla Trycholog.info
REFRESH-INTERVAL;VALUE=DURATION:PT1H
X-Robots-Tag:noindex
X-PUBLISHED-TTL:PT1H
BEGIN:VTIMEZONE
TZID:Europe/Warsaw
BEGIN:DAYLIGHT
TZOFFSETFROM:+0100
TZOFFSETTO:+0200
TZNAME:CEST
DTSTART:20180325T010000
END:DAYLIGHT
BEGIN:STANDARD
TZOFFSETFROM:+0200
TZOFFSETTO:+0100
TZNAME:CET
DTSTART:20181028T010000
END:STANDARD
BEGIN:DAYLIGHT
TZOFFSETFROM:+0100
TZOFFSETTO:+0200
TZNAME:CEST
DTSTART:20190331T010000
END:DAYLIGHT
BEGIN:STANDARD
TZOFFSETFROM:+0200
TZOFFSETTO:+0100
TZNAME:CET
DTSTART:20191027T010000
END:STANDARD
BEGIN:DAYLIGHT
TZOFFSETFROM:+0100
TZOFFSETTO:+0200
TZNAME:CEST
DTSTART:20200329T010000
END:DAYLIGHT
BEGIN:STANDARD
TZOFFSETFROM:+0200
TZOFFSETTO:+0100
TZNAME:CET
DTSTART:20201025T010000
END:STANDARD
END:VTIMEZONE
BEGIN:VEVENT
DTSTART;TZID=Europe/Warsaw:20190126T130000
DTEND;TZID=Europe/Warsaw:20190126T143000
DTSTAMP:20260423T005535
CREATED:20190110T154301Z
LAST-MODIFIED:20190110T154301Z
UID:2963-1548507600-1548513000@trycholog.info
SUMMARY:Styl życia a twoje włosy - wykład dietetyczno-trychologiczny - Warszawa
DESCRIPTION:Włosy to najlepszy barometr twojego zdrowia.\nSerdecznie zapraszamy na wykład eksperta dietetyki Jacka Kucharskiego\, który opowie jak dbać o zdrowe ciało\, harmonijny styl życia tak\, by wzmacniać nasze naturalne piękno. \nPodczas wykładu dowiesz się:\n– jak wygląd włosów może wskazać twój stan zdrowia – zagadnienia wczesnej profilaktyki i wykrywania zaburzeń zdrowia\, dzięki badaniu włosów\,\n– jak niedobory mineralne mogę stać się przyczynami chorób\,\n– analiza włosów – jak nawyki i styl życia (praca\, odpoczynki\, odżywanie i stres) wpływają na stan włosów\,\n– czym jest równowaga neuroendokrynna i dlaczego jest celem działań prozdrowotnych\,\n-jak prowadzić bezpieczną i skuteczną suplementację. \nDodatkowo\, na wykładzie dowiesz się jak zharmonizować wszystkie elementy stylu życia tak\, by dbać o swoje zdrowie i piękno: \n– odżywianie (prawidłowy sposób spożywania i przygotowywania posiłków\, stan przewodu pokarmowego – kwas solny\, flora jelitowa i ph poszczególnych odcinków przewodu pokarmowego)\,\n– aktywność fizyczna (rodzaj aktywności dopasowany do twojego stylu życia\, skuteczna regeneracja)\n– myślenie (budowa i odżywienie układu nerwowego -stan naczyń krwionośnych- równowaga neuroendokrynna dla dobra układu nerwowego i mózgu)\n-stan kręgosłupa jako czynnik mający wpływ na wszystkie elementy stylu życia \nProwadzący:\nSpecjalista Jacek Kucharski\nAbsolwent AWF oraz studiów podyplomowych z Poradnictwa Dietetycznego\, z blisko 20 letnim doświadczeniem. Od kilku lat współpracuję z Anną Lewandowską i jest stałym prelegentem i konsultantem dietetycznym podczas jej obozów.
URL:https://trycholog.info/wydarzenie/styl-zycia-a-twoje-wlosy-wyklad-dietetyczno-trychologiczny-warszawa/
CATEGORIES:Warszawa,Wykład
ATTACH;FMTTYPE=image/jpeg:https://trycholog.info/wp-content/uploads/2019/01/Wyklad-Jacek-Kucharki-Jaga-Hupalo.jpg
END:VEVENT
END:VCALENDAR