BEGIN:VCALENDAR
VERSION:2.0
PRODID:-//Trycholog.info - ECPv6.15.15//NONSGML v1.0//EN
CALSCALE:GREGORIAN
METHOD:PUBLISH
X-WR-CALNAME:Trycholog.info
X-ORIGINAL-URL:https://trycholog.info
X-WR-CALDESC:Wydarzenia dla Trycholog.info
REFRESH-INTERVAL;VALUE=DURATION:PT1H
X-Robots-Tag:noindex
X-PUBLISHED-TTL:PT1H
BEGIN:VTIMEZONE
TZID:Europe/Warsaw
BEGIN:DAYLIGHT
TZOFFSETFROM:+0100
TZOFFSETTO:+0200
TZNAME:CEST
DTSTART:20200329T010000
END:DAYLIGHT
BEGIN:STANDARD
TZOFFSETFROM:+0200
TZOFFSETTO:+0100
TZNAME:CET
DTSTART:20201025T010000
END:STANDARD
BEGIN:DAYLIGHT
TZOFFSETFROM:+0100
TZOFFSETTO:+0200
TZNAME:CEST
DTSTART:20210328T010000
END:DAYLIGHT
BEGIN:STANDARD
TZOFFSETFROM:+0200
TZOFFSETTO:+0100
TZNAME:CET
DTSTART:20211031T010000
END:STANDARD
BEGIN:DAYLIGHT
TZOFFSETFROM:+0100
TZOFFSETTO:+0200
TZNAME:CEST
DTSTART:20220327T010000
END:DAYLIGHT
BEGIN:STANDARD
TZOFFSETFROM:+0200
TZOFFSETTO:+0100
TZNAME:CET
DTSTART:20221030T010000
END:STANDARD
BEGIN:DAYLIGHT
TZOFFSETFROM:+0100
TZOFFSETTO:+0200
TZNAME:CEST
DTSTART:20230326T010000
END:DAYLIGHT
BEGIN:STANDARD
TZOFFSETFROM:+0200
TZOFFSETTO:+0100
TZNAME:CET
DTSTART:20231029T010000
END:STANDARD
BEGIN:DAYLIGHT
TZOFFSETFROM:+0100
TZOFFSETTO:+0200
TZNAME:CEST
DTSTART:20240331T010000
END:DAYLIGHT
BEGIN:STANDARD
TZOFFSETFROM:+0200
TZOFFSETTO:+0100
TZNAME:CET
DTSTART:20241027T010000
END:STANDARD
BEGIN:DAYLIGHT
TZOFFSETFROM:+0100
TZOFFSETTO:+0200
TZNAME:CEST
DTSTART:20250330T010000
END:DAYLIGHT
BEGIN:STANDARD
TZOFFSETFROM:+0200
TZOFFSETTO:+0100
TZNAME:CET
DTSTART:20251026T010000
END:STANDARD
END:VTIMEZONE
BEGIN:VEVENT
DTSTART;VALUE=DATE:20240416
DTEND;VALUE=DATE:20240419
DTSTAMP:20260422T150458
CREATED:20240301T085258Z
LAST-MODIFIED:20240301T085258Z
UID:7319-1713225600-1713484799@trycholog.info
SUMMARY:II Kongres Trychologiczny online
DESCRIPTION:Zapraszamy trychologów\, studentów trychologii oraz osoby zainteresowane poszerzeniem wiedzy na temat diagnozowania\, leczenia chorób skóry głowy i włosów oraz ich pielęgnacji na:\nII KONGRES TRYCHOLOGICZNY online\nTermin konferencji:\n𝟭𝟲-𝟭𝟴.𝟬𝟰.𝟮𝟬𝟮𝟰 – spotkania on-line rozpoczynają się codziennie o 20:00 \nPrelegentki i tematy:\n𝟭𝟲.𝟬𝟰.𝟮𝟬𝟮𝟰\n„Polekowe wypadanie włosów – problem czy wyzwanie?”\ndr n. med. MARTA BEDNAREK \n𝟭𝟳.𝟬𝟰.𝟮𝟬𝟮𝟰\n„Analiza kluczowych badań laboratoryjnych w ujęciu funkcjonalnym w gabinecie trychologa”\nmgr MONIKA GACKOWSKA-LISIŃSKA \n𝟭𝟴.𝟬𝟰.𝟮𝟬𝟮𝟰\n„Związek nadmiernej utraty włosów z zaburzeniami funkcjonowania skóry głowy – case study”\nmgr EWELINA SZENDZIELORZ \nCo otrzymujesz w ramach konferencji on-line:\n\n profesjonalną wiedzę\n imienny certyfikat\n sesję Q&A\n dostęp do nagrania przez 30 dni
URL:https://trycholog.info/wydarzenie/ii-kongres-trychologiczny-online/
CATEGORIES:Konferencja,Kongres,Webinarium
ATTACH;FMTTYPE=image/png:https://trycholog.info/wp-content/uploads/2024/03/Wydarzenie-FBKTII_SET2_P.png
END:VEVENT
BEGIN:VEVENT
DTSTART;VALUE=DATE:20231025
DTEND;VALUE=DATE:20231028
DTSTAMP:20260422T150458
CREATED:20231011T102941Z
LAST-MODIFIED:20231011T102941Z
UID:6994-1698192000-1698451199@trycholog.info
SUMMARY:„Trychologia Holistyczna: Wielowymiarowe Podejście do Zdrowia Włosów” Konferencja on-online
DESCRIPTION:Zapraszamy na wyjątkowe trzydniowe wydarzenie on-line pt.  \n„Trychologia Holistyczna: Wielowymiarowe Podejście do Zdrowia Włosów” \nprzygotowane przez wybitnych specjalistów. \nKonferencja on-line jest przeznaczona dla trychologów\, studentów trychologii i wszystkich zainteresowanych poszerzeniem wiedzy na temat diagnozowania\, leczenia chorób skóry głowy i włosów oraz ich pielęgnacji w ujęciu holistycznym. \nWykładowcy: \n\ndr n. med. MARTA BEDNAREK\nmgr KINGA KŁECZEK-RÓG\nmgr inż. NATALIA LENARCZYK\n\nTermin: 25-27.10.2023 r. \nZapoznaj się z programem i zgłoś swój udział na stronie WEBINARIO.PL
URL:https://trycholog.info/wydarzenie/trychologia-holistyczna-wielowymiarowe-podejscie-do-zdrowia-wlosow-konferencja-on-online/
CATEGORIES:Konferencja,Spotkanie online
ATTACH;FMTTYPE=image/jpeg:https://trycholog.info/wp-content/uploads/2023/10/Trychologia_Holistyczna_Konferencja_online.jpg
END:VEVENT
BEGIN:VEVENT
DTSTART;TZID=Europe/Warsaw:20210527T160000
DTEND;TZID=Europe/Warsaw:20210527T200000
DTSTAMP:20260422T150458
CREATED:20210428T103346Z
LAST-MODIFIED:20210428T103346Z
UID:5056-1622131200-1622145600@trycholog.info
SUMMARY:II Festiwal Trychologiczny on-line
DESCRIPTION:Serdecznie zapraszamy na\nII Festiwal Trychologiczny – on-line organizowany przez Wyższą Szkołę Biznesu i Nauk o Zdrowiu we współpracy z Kołem Kosmetologii Medycznej.\n\nKiedy: 27.05.2021 r. (czwartek). godz. 16.00-20:00\nWydarzenie jest bezpłatne i będzie realizowane za pośrednictwem platformy Teams.\n\nCelem festiwalu jest integracja środowisk związanych z branżą trychologiczną\, wymiana doświadczeń zawodowych\, poszerzenie wiedzy i umiejętności z zakresu trychologii.\nW trakcie festiwalu swoją wiedzą i doświadczeniem podzielą się z Państwem doświadczeni trycholodzy\, dermatolodzy i inni specjaliści w swojej dziedzinie.\n\nTematyka festiwalu obejmie między innymi:\n\n\nciekawe przypadki trychologiczne\npocovidowe wypadanie włosów w gabinecie trychologicznym\,\nnajczęstsze problemy owłosionej skóry głowy oczami doświadczonego dermatologa\nwłosy w aspekcie stricte trychologicznym\naspekty prawne dotyczące wprowadzania na rynek produktów trychologicznych\nłysienie plackowate w gabinecie trychologicznym\nzastosowanie Colostrum w trychologii\nzastosowanie technologii LLLT (Low Level Laser Therapy) w trychologii\nformy marketingu trychologicznego\n\n\nSzczegółowa Agenda wydarzenia zostanie udostępniona wkrótce.\n\nPatronat honorowy: Polskie Stowarzyszenie Trychologiczne\nPatronat medialny: Beauty Forum\, Art Of Beauty\, Trycholog. Info\nPartnerzy: Martha Orchis Łódzkie Centrum Trychologii\, Well Concept\, HairMax\n\nFilm z poprzedniej edycji festiwalu:\nhttps://www.youtube.com/watch?v=fxrWhOJB_a0&t=127s\n\nKontakt: dr n. med. Aleksandra Słodka a.slodka@wsbinoz.pl
URL:https://trycholog.info/wydarzenie/ii-festiwal-trychologiczny-on-line/
CATEGORIES:Spotkanie online
ATTACH;FMTTYPE=image/jpeg:https://trycholog.info/wp-content/uploads/2021/04/II-Festiwal-Trychologiczny-online.jpg
END:VEVENT
BEGIN:VEVENT
DTSTART;TZID=Europe/Warsaw:20210422T100000
DTEND;TZID=Europe/Warsaw:20210422T174500
DTSTAMP:20260422T150458
CREATED:20210125T095654Z
LAST-MODIFIED:20210125T095654Z
UID:4946-1619085600-1619113500@trycholog.info
SUMMARY:Trychologia - jako ważny obszar kosmetologii medycznej
DESCRIPTION:W imieniu organizatora zapraszamy na\nI Ogólnopolską Konferencję Naukową w formie online\npt.:\n„Trychologia – jako ważny obszar kosmetologii medycznej”\n  \nJuż teraz możesz zgłosić chęć udziału! Zapisz się przez FORMULARZ\nlub skanując kod QR\n \n 
URL:https://trycholog.info/wydarzenie/trychologia-jako-wazny-obszar-kosmetologii-medycznej/
CATEGORIES:Konferencja,Spotkanie online
ATTACH;FMTTYPE=image/jpeg:https://trycholog.info/wp-content/uploads/2021/01/Konferencja-Naukowa-Akademia-Pomorska-w-Slupsku.jpg
END:VEVENT
END:VCALENDAR