BEGIN:VCALENDAR
VERSION:2.0
PRODID:-//Trycholog.info - ECPv6.15.15//NONSGML v1.0//EN
CALSCALE:GREGORIAN
METHOD:PUBLISH
X-WR-CALNAME:Trycholog.info
X-ORIGINAL-URL:https://trycholog.info
X-WR-CALDESC:Wydarzenia dla Trycholog.info
REFRESH-INTERVAL;VALUE=DURATION:PT1H
X-Robots-Tag:noindex
X-PUBLISHED-TTL:PT1H
BEGIN:VTIMEZONE
TZID:Europe/Warsaw
BEGIN:DAYLIGHT
TZOFFSETFROM:+0100
TZOFFSETTO:+0200
TZNAME:CEST
DTSTART:20180325T010000
END:DAYLIGHT
BEGIN:STANDARD
TZOFFSETFROM:+0200
TZOFFSETTO:+0100
TZNAME:CET
DTSTART:20181028T010000
END:STANDARD
BEGIN:DAYLIGHT
TZOFFSETFROM:+0100
TZOFFSETTO:+0200
TZNAME:CEST
DTSTART:20190331T010000
END:DAYLIGHT
BEGIN:STANDARD
TZOFFSETFROM:+0200
TZOFFSETTO:+0100
TZNAME:CET
DTSTART:20191027T010000
END:STANDARD
BEGIN:DAYLIGHT
TZOFFSETFROM:+0100
TZOFFSETTO:+0200
TZNAME:CEST
DTSTART:20200329T010000
END:DAYLIGHT
BEGIN:STANDARD
TZOFFSETFROM:+0200
TZOFFSETTO:+0100
TZNAME:CET
DTSTART:20201025T010000
END:STANDARD
END:VTIMEZONE
BEGIN:VEVENT
DTSTART;VALUE=DATE:20190330
DTEND;VALUE=DATE:20190401
DTSTAMP:20260423T004934
CREATED:20181109T230122Z
LAST-MODIFIED:20181109T230122Z
UID:2659-1553904000-1554076799@trycholog.info
SUMMARY:IX Konferencja Trychologiczna
DESCRIPTION:Polskie Stowarzyszenie Trychologiczne zaprasza na wiosenną Konferencję Trychologiczną do Poznania. W dniach 30-31 marca 2019 roku zostało zaplanowane dwudniowe spotkanie podczas którego odbedą się wykłady i warsztaty edukacyjne dla osób zajmujących się trychologią.\nZapoznaj się z programem: Plan-Konferencji-Wiosna-2019
URL:https://trycholog.info/wydarzenie/ix-konferencja-trychologiczna/
CATEGORIES:Konferencja,Kongres,Poznań
ATTACH;FMTTYPE=image/png:https://trycholog.info/wp-content/uploads/2018/11/konferencja-trychologiczna-marzec-2019.png
END:VEVENT
END:VCALENDAR